BEGIN:VCALENDAR
VERSION:2.0
CALSCALE:GREGORIAN
PRODID:adamgibbons/ics
METHOD:PUBLISH
X-PUBLISHED-TTL:PT1H
BEGIN:VEVENT
UID:184@tucsontimeline.info
SUMMARY:11th Annual Oak Flat March/Run
DTSTAMP:20260423T172840Z
DTSTART:20250220T230000Z
DTEND:20250223T193000Z
DESCRIPTION:11th Annual Chi’chil BiŁdagoteel Oak Flat March/Run February 20
	-23\, 2025 | EVENT\nFLYER\n[http://users.neo.registeredsite.com/8/3/2/1189
	7238/assets/2025_March-to-OakFlat.pdf]\n\nThursday\, Feb 20 - 4pm Holy Gro
	und Blessing & Dinner @ Old San Carlos Monument.\nRun will follow after bl
	essing.\n\nFriday\, Feb 21- 8am March/Run will begin @ the New Skate Park 
	(Sport Complex)\nand will end in Miami\, AZ at the Shrine.\n\nSaturday\, F
	eb 22 - 8am Run will begin @ the Shrine in Miami\, AZ to Oak Flat.\n\nIf c
	amping\, please bring warm clothes\, camping gear\, chairs\, and sanitatio
	n\nsupplies. Meals will be provided.\n\n\n\nFor more information contact: 
	 Vanessa Nosie (928) 215-1476\nWendsler Nosie Sr. (928) 200-7762
URL:https://tucsontimeline.info/event/11th-annual-oak-flat-marchrun
GEO:33.3507;-110.455
LOCATION:San Carlos Apache Nation - Gila County\, Arizona\, 85550\, United 
	States
STATUS:CONFIRMED
CATEGORIES:activism,good causes
X-ALT-DESC;FMTTYPE=text/html:<p><strong>11th Annual Chi’chil BiŁdagoteel&nb
	sp;Oak Flat March/Run&nbsp;February 20-23, 2025 |&nbsp;</strong><a target=
	"_blank" href="http://users.neo.registeredsite.com/8/3/2/11897238/assets/2
	025_March-to-OakFlat.pdf"><strong>EVENT FLYER</strong></a></p><p><strong>T
	hursday, Feb 20</strong> - 4pm Holy Ground Blessing &amp; Dinner @ Old San
	 Carlos Monument. Run will follow after blessing.</p><p><strong>Friday, Fe
	b 21</strong>- 8am March/Run will begin @ the New Skate Park (Sport Comple
	x) and will end in Miami, AZ at the Shrine.</p><p><strong>Saturday, Feb 22
	</strong> - 8am Run will begin @ the Shrine in Miami, AZ to Oak Flat.</p><
	p>If camping, please bring warm clothes, camping gear, chairs, and sanitat
	ion supplies. Meals will be provided.</p><p></p><p><strong>For more inform
	ation contact:</strong>&nbsp;&nbsp;Vanessa Nosie (928) 215-1476<br>Wendsle
	r Nosie Sr. (928) 200-7762</p>
END:VEVENT
END:VCALENDAR
